BEGIN:VCALENDAR
VERSION:2.0
PRODID:SchoolNow
CALSCALE:GREGORIAN
BEGIN:VEVENT
UID:d3f48730-5f64-11ec-9aa5-02344199ac6f
DTSTAMP:20211217T181159Z
SUMMARY:Third nine weeks progress report
URL;VALUE=URI:https://www.lpssonline.com/schools/careercenter/calendar/2958
 822/third-nine-weeks-progress-report
DTSTART:20220209T181100Z
DTEND:20220209T191100Z
END:VEVENT
END:VCALENDAR
