BEGIN:VCALENDAR
VERSION:2.0
PRODID:SchoolNow
CALSCALE:GREGORIAN
BEGIN:VEVENT
UID:dc0f3532-5f64-11ec-9834-02344199ac6f
DTSTAMP:20211217T181213Z
SUMMARY:After School Conferences (Students report to school.)
URL;VALUE=URI:https://www.lpssonline.com/schools/careercenter/calendar/2958
 823/after-school-conferences-students-report-to-school
DTSTART:20220224T181200Z
DTEND:20220224T191200Z
END:VEVENT
END:VCALENDAR
