BEGIN:VCALENDAR
VERSION:2.0
PRODID:SchoolNow
CALSCALE:GREGORIAN
BEGIN:VEVENT
UID:e337ace0-5f64-11ec-91aa-02344199ac6f
DTSTAMP:20220215T143702Z
SUMMARY:Parent Conference Day 7:30 am - 11:30 am Students do not report to 
 school.
URL;VALUE=URI:https://www.lpssonline.com/schools/careercenter/calendar/2958
 824/parent-conference-day-7-30-am-11-30-pm-students-do-not-report-to-schoo
 l
DTSTART:20220225T133000Z
DTEND:20220225T173000Z
END:VEVENT
END:VCALENDAR
