BEGIN:VCALENDAR
VERSION:2.0
PRODID:SchoolNow
CALSCALE:GREGORIAN
BEGIN:VEVENT
UID:eff11f66-5f64-11ec-a7c0-02344199ac6f
DTSTAMP:20211217T181246Z
SUMMARY:Mardi Gras Holiday
URL;VALUE=URI:https://www.lpssonline.com/schools/careercenter/calendar/2958
 825/mardi-gras-holiday
DTSTART;VALUE=DATE:20220228
DTEND;VALUE=DATE:20220303
END:VEVENT
END:VCALENDAR
