BEGIN:VCALENDAR
VERSION:2.0
PRODID:SchoolNow
CALSCALE:GREGORIAN
BEGIN:VEVENT
UID:f7a6d098-5f64-11ec-8709-02344199ac6f
DTSTAMP:20220215T143744Z
SUMMARY:Students return from Mardi Gras Break
URL;VALUE=URI:https://www.lpssonline.com/schools/careercenter/calendar/2958
 826/students-return-from-mardi-gras-break
DTSTART:20220303T181200Z
DTEND:20220303T191200Z
END:VEVENT
END:VCALENDAR
