BEGIN:VCALENDAR
VERSION:2.0
PRODID:SchoolNow
CALSCALE:GREGORIAN
BEGIN:VEVENT
UID:fd5ebdd4-5f64-11ec-ba79-02344199ac6f
DTSTAMP:20211217T181309Z
SUMMARY:End of third nine weeks
URL;VALUE=URI:https://www.lpssonline.com/schools/careercenter/calendar/2958
 827/end-of-third-nine-weeks
DTSTART:20220316T171300Z
DTEND:20220316T181300Z
END:VEVENT
END:VCALENDAR
