BEGIN:VCALENDAR
VERSION:2.0
PRODID:SchoolNow
CALSCALE:GREGORIAN
BEGIN:VEVENT
UID:3e52fcb0-5f65-11ec-b12a-02344199ac6f
DTSTAMP:20211217T181458Z
SUMMARY:Report cards sent home
URL;VALUE=URI:https://www.lpssonline.com/schools/careercenter/calendar/2958
 828/report-cards-sent-home
DTSTART:20220323T171400Z
DTEND:20220323T181400Z
END:VEVENT
END:VCALENDAR
