BEGIN:VCALENDAR
VERSION:2.0
PRODID:SchoolNow
CALSCALE:GREGORIAN
BEGIN:VEVENT
UID:e7620846-5f65-11ec-bb83-02344199ac6f
DTSTAMP:20211217T181941Z
SUMMARY:Easter/Spring Break
URL;VALUE=URI:https://www.lpssonline.com/schools/careercenter/calendar/2958
 829/easter-spring-break
DTSTART;VALUE=DATE:20220415
DTEND;VALUE=DATE:20220423
END:VEVENT
END:VCALENDAR
