BEGIN:VCALENDAR
VERSION:2.0
PRODID:SchoolNow
CALSCALE:GREGORIAN
BEGIN:VEVENT
UID:f03a2c28-5f65-11ec-b8b8-02344199ac6f
DTSTAMP:20211217T181956Z
SUMMARY:Fourth nine weeks progress report
URL;VALUE=URI:https://www.lpssonline.com/schools/careercenter/calendar/2958
 830/fourth-nine-weeks-progress-report
DTSTART:20220425T171900Z
DTEND:20220425T181900Z
END:VEVENT
END:VCALENDAR
