BEGIN:VCALENDAR
VERSION:2.0
PRODID:SchoolNow
CALSCALE:GREGORIAN
BEGIN:VEVENT
UID:f8116006-5f65-11ec-916a-02344199ac6f
DTSTAMP:20211217T182009Z
SUMMARY:Last Day for students
URL;VALUE=URI:https://www.lpssonline.com/schools/careercenter/calendar/2958
 831/last-day-for-students
DTSTART:20220524T172000Z
DTEND:20220524T182000Z
END:VEVENT
END:VCALENDAR
