BEGIN:VCALENDAR
VERSION:2.0
PRODID:SchoolNow
CALSCALE:GREGORIAN
BEGIN:VEVENT
UID:ff98b086-5f65-11ec-83e6-02344199ac6f
DTSTAMP:20211217T182022Z
SUMMARY:School Record Day
URL;VALUE=URI:https://www.lpssonline.com/schools/careercenter/calendar/2958
 832/school-record-day
DTSTART:20220525T172000Z
DTEND:20220525T182000Z
END:VEVENT
END:VCALENDAR
