BEGIN:VCALENDAR
VERSION:2.0
PRODID:SchoolNow
CALSCALE:GREGORIAN
BEGIN:VEVENT
UID:8429caee-2134-11ec-9139-02285d7b76d3
DTSTAMP:20210929T144958Z
SUMMARY:Girls Basketball Tryouts
LOCATION:Girls Gym
URL;VALUE=URI:https://www.lpssonline.com/schools/carencro/calendar/2775920/
 girls-basketball-tryouts
DTSTART:20211011T194500Z
DTEND:20211011T213000Z
END:VEVENT
END:VCALENDAR
