BEGIN:VCALENDAR
VERSION:2.0
PRODID:SchoolNow
CALSCALE:GREGORIAN
BEGIN:VEVENT
UID:8472caa4-2149-11ec-9a52-02f119953171
DTSTAMP:20210929T172622Z
SUMMARY:Destrehan & Liberty Magnet Scrimmage
LOCATION:Liberty Magnet High School\, Baton Rouge
URL;VALUE=URI:https://www.lpssonline.com/schools/carencro/calendar/2775953/
 destrehan-liberty-magnet-scrimmage
DTSTART:20211027T220000Z
DTEND:20211028T010000Z
END:VEVENT
END:VCALENDAR
