BEGIN:VCALENDAR
VERSION:2.0
PRODID:SchoolNow
CALSCALE:GREGORIAN
BEGIN:VEVENT
UID:1dd91518-214a-11ec-9e3d-02f119953171
DTSTAMP:20210929T172435Z
SUMMARY:LBOA Scrimmage
LOCATION:Northside High School
URL;VALUE=URI:https://www.lpssonline.com/schools/carencro/calendar/2775954/
 lboa-scrimmage
DTSTART:20211030T220000Z
DTEND:20211031T010000Z
END:VEVENT
END:VCALENDAR
