BEGIN:VCALENDAR
VERSION:2.0
PRODID:SchoolNow
CALSCALE:GREGORIAN
BEGIN:VEVENT
UID:34d836bc-214b-11ec-97ff-02f119953171
DTSTAMP:20210929T173223Z
SUMMARY:Alexandria Sr. High/ Sulphur Scrimmage
LOCATION:Carencro High School
URL;VALUE=URI:https://www.lpssonline.com/schools/carencro/calendar/2775956/
 alexandria-sr-high-sulphur-scrimmage
DTSTART:20211103T230000Z
DTEND:20211104T010000Z
END:VEVENT
END:VCALENDAR
