BEGIN:VCALENDAR
VERSION:2.0
PRODID:SchoolNow
CALSCALE:GREGORIAN
BEGIN:VEVENT
UID:7b4abf96-214d-11ec-89b7-0aea2e33a83d
DTSTAMP:20210929T192056Z
SUMMARY:Boys Basketball Jamboree vs Southside
LOCATION:Southside High School
URL;VALUE=URI:https://www.lpssonline.com/schools/carencro/calendar/2775974/
 jamboree-vs-southside
DTSTART:20211013T230000Z
DTEND:20211014T010000Z
END:VEVENT
END:VCALENDAR
