BEGIN:VCALENDAR
VERSION:2.0
PRODID:SchoolNow
CALSCALE:GREGORIAN
BEGIN:VEVENT
UID:df306b3c-214d-11ec-9d0d-0aea2e33a83d
DTSTAMP:20210929T175128Z
SUMMARY:CHS Boys Basketball vs Westminster
LOCATION:Westminster Christian Academy
URL;VALUE=URI:https://www.lpssonline.com/schools/carencro/calendar/2775975/
 chs-boys-basketball-vs-westminster
DTSTART:20211116T230000Z
DTEND:20211117T020000Z
END:VEVENT
END:VCALENDAR
