BEGIN:VCALENDAR
VERSION:2.0
PRODID:SchoolNow
CALSCALE:GREGORIAN
BEGIN:VEVENT
UID:25371982-214e-11ec-853b-0aea2e33a83d
DTSTAMP:20210929T175325Z
SUMMARY:CHS Boys Basketball vs Church Point
LOCATION:Carencro High School
URL;VALUE=URI:https://www.lpssonline.com/schools/carencro/calendar/2776043/
 chs-boys-basketball-vs-church-point
DTSTART:20211202T233000Z
DTEND:20211203T030000Z
END:VEVENT
END:VCALENDAR
