BEGIN:VCALENDAR
VERSION:2.0
PRODID:SchoolNow
CALSCALE:GREGORIAN
BEGIN:VEVENT
UID:cfa9f3e4-214e-11ec-8caa-0aea2e33a83d
DTSTAMP:20210929T175840Z
SUMMARY:CHS Boys Basketball at Rayne
LOCATION:Rayne High School
URL;VALUE=URI:https://www.lpssonline.com/schools/carencro/calendar/2776999/
 chs-boys-basketball-at-rayne
DTSTART:20211208T003000Z
DTEND:20211208T030000Z
END:VEVENT
END:VCALENDAR
