BEGIN:VCALENDAR
VERSION:2.0
PRODID:SchoolNow
CALSCALE:GREGORIAN
BEGIN:VEVENT
UID:fcfe82a0-214f-11ec-a1c6-0ef688774769
DTSTAMP:20210929T180637Z
SUMMARY:Belton/Williams Classic-Wossman HS
LOCATION:Wossman High School\, Monroe LA
URL;VALUE=URI:https://www.lpssonline.com/schools/carencro/calendar/2777089/
 belton-williams-classic-wossman-hs
DTSTART;VALUE=DATE:20211209
DTEND;VALUE=DATE:20211212
END:VEVENT
END:VCALENDAR
