BEGIN:VCALENDAR
VERSION:2.0
PRODID:SchoolNow
CALSCALE:GREGORIAN
BEGIN:VEVENT
UID:28df67fe-2150-11ec-b60e-0ef688774769
DTSTAMP:20210929T180803Z
SUMMARY:CHS Boys Basketball vs Lafayette High
LOCATION:Carencro High School
URL;VALUE=URI:https://www.lpssonline.com/schools/carencro/calendar/2777094/
 chs-basketball-vs-lafayette-high
DTSTART:20211214T233000Z
DTEND:20211215T030000Z
END:VEVENT
END:VCALENDAR
