BEGIN:VCALENDAR
VERSION:2.0
PRODID:SchoolNow
CALSCALE:GREGORIAN
BEGIN:VEVENT
UID:7946edc0-2150-11ec-b1b7-0ef688774769
DTSTAMP:20210929T181005Z
SUMMARY:Midland High Holiday Spectacular
LOCATION:Midland High School
URL;VALUE=URI:https://www.lpssonline.com/schools/carencro/calendar/2777097/
 midland-high-holiday-spectacular
DTSTART;VALUE=DATE:20211215
DTEND;VALUE=DATE:20211219
END:VEVENT
END:VCALENDAR
