BEGIN:VCALENDAR
VERSION:2.0
PRODID:SchoolNow
CALSCALE:GREGORIAN
BEGIN:VEVENT
UID:b32df93e-2150-11ec-9e06-0ef688774769
DTSTAMP:20210929T181142Z
SUMMARY:CHS Boys Basketball vs West St. Mary
LOCATION:West St. Mary High School
URL;VALUE=URI:https://www.lpssonline.com/schools/carencro/calendar/2777098/
 chs-boys-basketball-vs-west-st-mary
DTSTART:20211221T233000Z
DTEND:20211222T030000Z
END:VEVENT
END:VCALENDAR
