BEGIN:VCALENDAR
VERSION:2.0
PRODID:SchoolNow
CALSCALE:GREGORIAN
BEGIN:VEVENT
UID:f8076612-2150-11ec-8562-0ef688774769
DTSTAMP:20210930T140145Z
SUMMARY:North Vermilion Christmas Tournament
LOCATION:North Vermilion High School
URL;VALUE=URI:https://www.lpssonline.com/schools/carencro/calendar/2777101/
 north-vermilion-christmas-tournament
DTSTART;VALUE=DATE:20211227
DTEND;VALUE=DATE:20211230
END:VEVENT
END:VCALENDAR
