BEGIN:VCALENDAR
VERSION:2.0
PRODID:SchoolNow
CALSCALE:GREGORIAN
BEGIN:VEVENT
UID:49edda5a-2152-11ec-b09e-0a113cd452d5
DTSTAMP:20210929T182305Z
SUMMARY:Mal Mundy's Big 10 Classic
LOCATION:Baton Rouge
URL;VALUE=URI:https://www.lpssonline.com/schools/carencro/calendar/2777102/
 mal-mundys-big-10-classic
DTSTART;VALUE=DATE:20211230
DTEND;VALUE=DATE:20211231
END:VEVENT
END:VCALENDAR
