BEGIN:VCALENDAR
VERSION:2.0
PRODID:SchoolNow
CALSCALE:GREGORIAN
BEGIN:VEVENT
UID:273cfe54-2153-11ec-9fe7-02ad81da6b75
DTSTAMP:20210929T182916Z
SUMMARY:Teurlings Rebel Roundball Classic
LOCATION:Teurlings Catholic High School
URL;VALUE=URI:https://www.lpssonline.com/schools/carencro/calendar/2777111/
 teurlings-rebel-roundball-classic
DTSTART;VALUE=DATE:20220105
DTEND;VALUE=DATE:20220109
END:VEVENT
END:VCALENDAR
