BEGIN:VCALENDAR
VERSION:2.0
PRODID:SchoolNow
CALSCALE:GREGORIAN
BEGIN:VEVENT
UID:0af392f0-2156-11ec-91d6-02ad81da6b75
DTSTAMP:20210929T190713Z
SUMMARY:CHS Boys Basketball vs Acadiana High
LOCATION:Acadiana High School
URL;VALUE=URI:https://www.lpssonline.com/schools/carencro/calendar/2777136/
 chs-basketball-vs-acadiana-high
DTSTART:20220112T000000Z
DTEND:20220112T020000Z
END:VEVENT
END:VCALENDAR
