BEGIN:VCALENDAR
VERSION:2.0
PRODID:SchoolNow
CALSCALE:GREGORIAN
BEGIN:VEVENT
UID:8742d45a-2157-11ec-8f8a-028e7c8b1ff3
DTSTAMP:20210929T190526Z
SUMMARY:CHS Boys Basketball vs Eunice High
LOCATION:Carencro High School
URL;VALUE=URI:https://www.lpssonline.com/schools/carencro/calendar/2777617/
 chs-boys-basketball-vs-eunice
DTSTART:20220114T230000Z
DTEND:20220115T020000Z
END:VEVENT
END:VCALENDAR
