BEGIN:VCALENDAR
VERSION:2.0
PRODID:SchoolNow
CALSCALE:GREGORIAN
BEGIN:VEVENT
UID:eb731bba-2157-11ec-ae58-028e7c8b1ff3
DTSTAMP:20210929T190323Z
SUMMARY:CHS Boys Basketball vs Port Barre
LOCATION:Port Barre High School
URL;VALUE=URI:https://www.lpssonline.com/schools/carencro/calendar/2777642/
 chs-boys-basketball-vs-port-barre
DTSTART:20220118T233000Z
DTEND:20220119T020000Z
END:VEVENT
END:VCALENDAR
