BEGIN:VCALENDAR
VERSION:2.0
PRODID:SchoolNow
CALSCALE:GREGORIAN
BEGIN:VEVENT
UID:6c4e0420-2158-11ec-9c4b-028e7c8b1ff3
DTSTAMP:20210929T190659Z
SUMMARY:CHS Boys Basketball vs Lakeview High
LOCATION:Carencro High School
URL;VALUE=URI:https://www.lpssonline.com/schools/carencro/calendar/2777651/
 chs-boys-basketball-vs-lakeview-high
DTSTART:20220125T233000Z
DTEND:20220126T020000Z
END:VEVENT
END:VCALENDAR
