BEGIN:VCALENDAR
VERSION:2.0
PRODID:SchoolNow
CALSCALE:GREGORIAN
BEGIN:VEVENT
UID:c47cd176-2158-11ec-93bd-028e7c8b1ff3
DTSTAMP:20210929T190927Z
SUMMARY:CHS Boys Basketball vs St. Thomas More
LOCATION:St. Thomas More Catholic High School
URL;VALUE=URI:https://www.lpssonline.com/schools/carencro/calendar/2777705/
 chs-boys-basketball-vs-st-thomas-more
DTSTART:20220128T233000Z
DTEND:20220129T020000Z
END:VEVENT
END:VCALENDAR
