BEGIN:VCALENDAR
VERSION:2.0
PRODID:SchoolNow
CALSCALE:GREGORIAN
BEGIN:VEVENT
UID:16e4b294-2159-11ec-864f-028e7c8b1ff3
DTSTAMP:20210929T191146Z
SUMMARY:CHS Boys Basketball vs Westgate High
LOCATION:Carencro High School
URL;VALUE=URI:https://www.lpssonline.com/schools/carencro/calendar/2777747/
 chs-boys-basketball-vs-westgate-high
DTSTART:20220201T233000Z
DTEND:20220202T020000Z
END:VEVENT
END:VCALENDAR
