BEGIN:VCALENDAR
VERSION:2.0
PRODID:SchoolNow
CALSCALE:GREGORIAN
BEGIN:VEVENT
UID:666a9d10-2159-11ec-9c9d-028e7c8b1ff3
DTSTAMP:20210929T191359Z
SUMMARY:CHS Boys Basketball vs Teurlings
LOCATION:Carencro High School
URL;VALUE=URI:https://www.lpssonline.com/schools/carencro/calendar/2777832/
 chs-boys-basketball-vs-teurlings
DTSTART:20220204T233000Z
DTEND:20220205T020000Z
END:VEVENT
END:VCALENDAR
