BEGIN:VCALENDAR
VERSION:2.0
PRODID:SchoolNow
CALSCALE:GREGORIAN
BEGIN:VEVENT
UID:b961e4ce-2159-11ec-b85b-028e7c8b1ff3
DTSTAMP:20210929T191618Z
SUMMARY:CHS Boys Basketball vs Northside High
LOCATION:Northside High School
URL;VALUE=URI:https://www.lpssonline.com/schools/carencro/calendar/2777872/
 chs-boys-basketball-vs-northside-high
DTSTART:20220208T233000Z
DTEND:20220209T020000Z
END:VEVENT
END:VCALENDAR
