BEGIN:VCALENDAR
VERSION:2.0
PRODID:SchoolNow
CALSCALE:GREGORIAN
BEGIN:VEVENT
UID:03903104-215a-11ec-980e-028e7c8b1ff3
DTSTAMP:20210929T191823Z
SUMMARY:CHS Boys Basketball vs St. Thomas More
LOCATION:Carencro High School
URL;VALUE=URI:https://www.lpssonline.com/schools/carencro/calendar/2777873/
 chs-boys-basketball-vs-st-thomas-more
DTSTART:20220215T233000Z
DTEND:20220216T020000Z
END:VEVENT
END:VCALENDAR
