BEGIN:VCALENDAR
VERSION:2.0
PRODID:SchoolNow
CALSCALE:GREGORIAN
BEGIN:VEVENT
UID:2bd1cbdc-215a-11ec-9a03-028e7c8b1ff3
DTSTAMP:20210929T191930Z
SUMMARY:CHS Boys Basketball vs Westgate
LOCATION:Westgate High School
URL;VALUE=URI:https://www.lpssonline.com/schools/carencro/calendar/2777874/
 chs-boys-basketball-vs-westgate
DTSTART:20220218T233000Z
DTEND:20220219T020000Z
END:VEVENT
END:VCALENDAR
