BEGIN:VCALENDAR
VERSION:2.0
PRODID:SchoolNow
CALSCALE:GREGORIAN
BEGIN:VEVENT
UID:56178e72-215a-11ec-a683-028e7c8b1ff3
DTSTAMP:20210929T192041Z
SUMMARY:Girls Basketball Jamboree
URL;VALUE=URI:https://www.lpssonline.com/schools/carencro/calendar/2777876/
 girls-basketball-jamboree
DTSTART;VALUE=DATE:20211108
DTEND;VALUE=DATE:20211110
END:VEVENT
END:VCALENDAR
