BEGIN:VCALENDAR
VERSION:2.0
PRODID:SchoolNow
CALSCALE:GREGORIAN
BEGIN:VEVENT
UID:afcb1812-215a-11ec-8a3d-028e7c8b1ff3
DTSTAMP:20210929T192312Z
SUMMARY:Lady Bear Bash
LOCATION:Carencro High School
URL;VALUE=URI:https://www.lpssonline.com/schools/carencro/calendar/2777877/
 lady-bear-bash
DTSTART;VALUE=DATE:20211117
DTEND;VALUE=DATE:20211121
END:VEVENT
END:VCALENDAR
