BEGIN:VCALENDAR
VERSION:2.0
PRODID:SchoolNow
CALSCALE:GREGORIAN
BEGIN:VEVENT
UID:f908cfb0-215a-11ec-8266-028e7c8b1ff3
DTSTAMP:20210929T192515Z
SUMMARY:CHS Girls Basketball vs Northwest
LOCATION:Northwest High School
URL;VALUE=URI:https://www.lpssonline.com/schools/carencro/calendar/2777878/
 chs-girls-basketball-vs-northwest
DTSTART:20211129T233000Z
DTEND:20211130T030000Z
END:VEVENT
END:VCALENDAR
