BEGIN:VCALENDAR
VERSION:2.0
PRODID:SchoolNow
CALSCALE:GREGORIAN
BEGIN:VEVENT
UID:33ccca16-215b-11ec-8d62-028e7c8b1ff3
DTSTAMP:20210929T192653Z
SUMMARY:CHS Girls Basketball vs North Central
LOCATION:North Central High School
URL;VALUE=URI:https://www.lpssonline.com/schools/carencro/calendar/2777879/
 chs-girls-basketball-vs-north-central
DTSTART:20211130T233000Z
DTEND:20211201T023000Z
END:VEVENT
END:VCALENDAR
