BEGIN:VCALENDAR
VERSION:2.0
PRODID:SchoolNow
CALSCALE:GREGORIAN
BEGIN:VEVENT
UID:629a8e3c-215b-11ec-aee3-028e7c8b1ff3
DTSTAMP:20210929T192812Z
SUMMARY:Girls Basketball Tournament at Acadiana High
LOCATION:Acadiana High School
URL;VALUE=URI:https://www.lpssonline.com/schools/carencro/calendar/2777880/
 girls-basketball-tournament-at-acadiana-high
DTSTART;VALUE=DATE:20211201
DTEND;VALUE=DATE:20211205
END:VEVENT
END:VCALENDAR
