BEGIN:VCALENDAR
VERSION:2.0
PRODID:SchoolNow
CALSCALE:GREGORIAN
BEGIN:VEVENT
UID:91e9b974-215b-11ec-89f1-028e7c8b1ff3
DTSTAMP:20210929T193110Z
SUMMARY:CHS Girls Basketball vs Acadiana High
LOCATION:Carencro High School
URL;VALUE=URI:https://www.lpssonline.com/schools/carencro/calendar/2777881/
 chs-girls-basketball-vs-acadiana-high
DTSTART:20211206T233000Z
DTEND:20211207T033000Z
END:VEVENT
END:VCALENDAR
