BEGIN:VCALENDAR
VERSION:2.0
PRODID:SchoolNow
CALSCALE:GREGORIAN
BEGIN:VEVENT
UID:01e67622-215c-11ec-a640-028e7c8b1ff3
DTSTAMP:20210929T193239Z
SUMMARY:CHS Girls Basketball vs Comeaux High
LOCATION:Comeaux High School
URL;VALUE=URI:https://www.lpssonline.com/schools/carencro/calendar/2777883/
 chs-girls-basketball-vs-comeaux-high
DTSTART:20211210T233000Z
DTEND:20211211T033000Z
END:VEVENT
END:VCALENDAR
