BEGIN:VCALENDAR
VERSION:2.0
PRODID:SchoolNow
CALSCALE:GREGORIAN
BEGIN:VEVENT
UID:55682520-215c-11ec-924d-028e7c8b1ff3
DTSTAMP:20210929T193459Z
SUMMARY:CHS Girls Basketball vs Lafayette High
LOCATION:Lafayette High School
URL;VALUE=URI:https://www.lpssonline.com/schools/carencro/calendar/2777886/
 chs-girls-basketball-vs-lafayette-high
DTSTART:20211214T233000Z
DTEND:20211215T033000Z
END:VEVENT
END:VCALENDAR
