BEGIN:VCALENDAR
VERSION:2.0
PRODID:SchoolNow
CALSCALE:GREGORIAN
BEGIN:VEVENT
UID:a0f5d6d6-215c-11ec-ac6f-028e7c8b1ff3
DTSTAMP:20210929T193706Z
SUMMARY:Walker Girls Basketball Tournament
LOCATION:Walker High School
URL;VALUE=URI:https://www.lpssonline.com/schools/carencro/calendar/2777888/
 walker-girls-basketball-tournament
DTSTART;VALUE=DATE:20211216
DTEND;VALUE=DATE:20211219
END:VEVENT
END:VCALENDAR
