BEGIN:VCALENDAR
VERSION:2.0
PRODID:SchoolNow
CALSCALE:GREGORIAN
BEGIN:VEVENT
UID:f9a416d0-215c-11ec-9630-028e7c8b1ff3
DTSTAMP:20210929T193935Z
SUMMARY:CHS Girls Basketball vs Iota High
LOCATION:Iota High School
URL;VALUE=URI:https://www.lpssonline.com/schools/carencro/calendar/2777890/
 chs-girls-basketball-vs-iota-high
DTSTART:20211222T000000Z
DTEND:20211222T030000Z
END:VEVENT
END:VCALENDAR
