BEGIN:VCALENDAR
VERSION:2.0
PRODID:SchoolNow
CALSCALE:GREGORIAN
BEGIN:VEVENT
UID:44209b54-21e7-11ec-b146-0a113cd452d5
DTSTAMP:20210930T120930Z
SUMMARY:Washington Marion Tournament
LOCATION:Washington Marion High School
URL;VALUE=URI:https://www.lpssonline.com/schools/carencro/calendar/2779302/
 washington-marion-tournament
DTSTART;VALUE=DATE:20211228
DTEND;VALUE=DATE:20211230
END:VEVENT
END:VCALENDAR
