BEGIN:VCALENDAR
VERSION:2.0
PRODID:SchoolNow
CALSCALE:GREGORIAN
BEGIN:VEVENT
UID:34f869bc-21e8-11ec-aace-0eb6d77b9c2b
DTSTAMP:20210930T125712Z
SUMMARY:CHS Girls Basketball vs LaGrange
LOCATION:LaGrange High School
URL;VALUE=URI:https://www.lpssonline.com/schools/carencro/calendar/2779303/
 chs-girls-basketball-vs-lagrange
DTSTART:20220101T000000Z
DTEND:20220101T030000Z
END:VEVENT
END:VCALENDAR
