BEGIN:VCALENDAR
VERSION:2.0
PRODID:SchoolNow
CALSCALE:GREGORIAN
BEGIN:VEVENT
UID:1e6547ce-21ed-11ec-aacf-0a4cb444b7d9
DTSTAMP:20210930T125124Z
SUMMARY:CHS Girls Basketball vs South Beauregard
LOCATION:South Beauregard High School
URL;VALUE=URI:https://www.lpssonline.com/schools/carencro/calendar/2779309/
 chs-girls-basketball-vs-south-beauregard
DTSTART:20220101T173000Z
DTEND:20220101T203000Z
END:VEVENT
END:VCALENDAR
