BEGIN:VCALENDAR
VERSION:2.0
PRODID:SchoolNow
CALSCALE:GREGORIAN
BEGIN:VEVENT
UID:a4a32d92-21ed-11ec-ad76-0a4cb444b7d9
DTSTAMP:20210930T125509Z
SUMMARY:CHS Girls Basketball vs Brusly
LOCATION:Brusly High School
URL;VALUE=URI:https://www.lpssonline.com/schools/carencro/calendar/2779310/
 chs-girls-basketball-vs-brusly
DTSTART:20220104T120000Z
DTEND:20220104T150000Z
END:VEVENT
END:VCALENDAR
